Workbook

Sheet Rent Roll
A1: Rent roll
A2: Sample Mesa Apt — as of 2026-08-31
A3: Unit identifiers only — no tenant names anywhere in this output. Lease type is derived from the gap between lease start and move-in (31-day tolerance); a blank means the source could not support a classification.
A5: Unit ID | B5: Floor plan | C5: Beds | D5: Baths | E5: SF | F5: Status | G5: Lease start | H5: Move-in | I5: Lease type | J5: In-place rent | K5: Rent per SF
A6: 1001 | B6: 3X2B | C6: 3 | D6: 2 | E6: 1444 | F6: Occupied | G6: 46174 | H6: 43733 | I6: Renewal | J6: 2258 | K6: =IFERROR(J6/E6,"")
A7: 1002 | B7: 3X2B | C7: 3 | D7: 2 | E7: 1444 | F7: Occupied | G7: 45656 | H7: 44165 | I7: Renewal | J7: 2265 | K7: =IFERROR(J7/E7,"")
A8: 1003 | B8: 2X2R | C8: 2 | D8: 2 | E8: 1006 | F8: Non-revenue | G8: 45992 | H8: 43809 | I8: Renewal | K8: =IFERROR(J8/E8,"")
A9: 1004 | B9: 2X2 | C9: 2 | D9: 2 | E9: 1006 | F9: Non-revenue | K9: =IFERROR(J9/E9,"")
A10: 1005 | B10: 1X1 | C10: 1 | D10: 1 | E10: 720 | F10: Occupied | G10: 45918 | H10: 45918 | I10: New | J10: 1181 | K10: =IFERROR(J10/E10,"")
A11: 1006 | B11: 1X1R | C11: 1 | D11: 1 | E11: 720 | F11: Occupied | G11: 46182 | H11: 46182 | I11: New | J11: 1265 | K11: =IFERROR(J11/E11,"")
A12: 1007 | B12: 1X1 | C12: 1 | D12: 1 | E12: 720 | F12: Occupied | G12: 46143 | H12: 41640 | I12: Renewal | J12: 1108 | K12: =IFERROR(J12/E12,"")
A13: 1008 | B13: 1X1R | C13: 1 | D13: 1 | E13: 720 | F13: Occupied | G13: 46024 | H13: 44167 | I13: Renewal | J13: 1450 | K13: =IFERROR(J13/E13,"")
A14: 1009 | B14: 1X1R | C14: 1 | D14: 1 | E14: 720 | F14: Occupied | G14: 46195 | H14: 46195 | I14: New | J14: 1176 | K14: =IFERROR(J14/E14,"")
A15: 1010 | B15: 1X1 | C15: 1 | D15: 1 | E15: 720 | F15: Occupied | G15: 46113 | H15: 40924 | I15: Renewal | J15: 1153 | K15: =IFERROR(J15/E15,"")
A16: 1011 | B16: 1X1 | C16: 1 | D16: 1 | E16: 720 | F16: Occupied | G16: 46204 | H16: 46204 | I16: New | J16: 1276 | K16: =IFERROR(J16/E16,"")
A17: 1012 | B17: 1X1 | C17: 1 | D17: 1 | E17: 720 | F17: Occupied | G17: 46204 | H17: 42064 | I17: Renewal | J17: 1163 | K17: =IFERROR(J17/E17,"")
A18: 1013 | B18: 2X2 | C18: 2 | D18: 2 | E18: 1006 | F18: Occupied | G18: 46098 | H18: 43907 | I18: Renewal | J18: 1569 | K18: =IFERROR(J18/E18,"")
A19: 1014 | B19: 2X2R | C19: 2 | D19: 2 | E19: 1006 | F19: Occupied | G19: 45879 | H19: 45514 | I19: Renewal | J19: 1528 | K19: =IFERROR(J19/E19,"")
A20: 1015 | B20: 2X2 | C20: 2 | D20: 2 | E20: 1006 | F20: Occupied | G20: 46143 | H20: 45076 | I20: Renewal | J20: 2161 | K20: =IFERROR(J20/E20,"")
A21: 1016 | B21: 2X2R | C21: 2 | D21: 2 | E21: 1006 | F21: Occupied | G21: 45960 | H21: 45960 | I21: New | J21: 1433 | K21: =IFERROR(J21/E21,"")
... A53: 1048 | B53: 2X2R | C53: 2 | D53: 2 | E53: 1006 | F53: Occupied | G53: 46121 | H53: 46121 | I53: New | J53: 1370 | K53: =IFERROR(J53/E53,"")
A54: 1049 | B54: 1X1R | C54: 1 | D54: 1 | E54: 720 | F54: Vacant | K54: =IFERROR(J54/E54,"")
A55: 1050 | B55: 1X1 | C55: 1 | D55: 1 | E55: 720 | F55: Occupied | G55: 45970 | H55: 45970 | I55: New | J55: 1307 | K55: =IFERROR(J55/E55,"")
A56: 1051 | B56: 1X1 | C56: 1 | D56: 1 | E56: 720 | F56: Occupied | G56: 45904 | H56: 45904 | I56: New | J56: 1166 | K56: =IFERROR(J56/E56,"")
A57: 1052 | B57: 1X1R | C57: 1 | D57: 1 | E57: 720 | F57: Occupied | G57: 46110 | H57: 45716 | I57: Renewal | J57: 1192 | K57: =IFERROR(J57/E57,"")
A58: 1053 | B58: 1X1 | C58: 1 | D58: 1 | E58: 720 | F58: Occupied | G58: 45914 | H58: 45549 | I58: Renewal | J58: 1367 | K58: =IFERROR(J58/E58,"")
A59: 1054 | B59: 1X1 | C59: 1 | D59: 1 | E59: 720 | F59: Occupied | G59: 46009 | H59: 46009 | I59: New | J59: 1281 | K59: =IFERROR(J59/E59,"")
A60: 1055 | B60: 1X1R | C60: 1 | D60: 1 | E60: 720 | F60: Occupied | G60: 45944 | H60: 45944 | I60: New | J60: 1124 | K60: =IFERROR(J60/E60,"")
A61: 1056 | B61: 1X1R | C61: 1 | D61: 1 | E61: 720 | F61: Occupied | G61: 46043 | H61: 46043 | I61: New | J61: 1171 | K61: =IFERROR(J61/E61,"")
A62: 1057 | B62: 1X1R | C62: 1 | D62: 1 | E62: 720 | F62: Occupied | G62: 45988 | H62: 45439 | I62: Renewal | J62: 1363 | K62: =IFERROR(J62/E62,"")
A63: 1058 | B63: 1X1R | C63: 1 | D63: 1 | E63: 720 | F63: Occupied | G63: 45906 | H63: 45175 | I63: Renewal | J63: 1413 | K63: =IFERROR(J63/E63,"")
A64: 1059 | B64: 1X1R | C64: 1 | D64: 1 | E64: 720 | F64: Occupied | G64: 46036 | H64: 46036 | I64: New | J64: 1234 | K64: =IFERROR(J64/E64,"")
A65: 1060 | B65: 1X1 | C65: 1 | D65: 1 | E65: 720 | F65: Occupied | G65: 45889 | H65: 45889 | I65: New | J65: 1218 | K65: =IFERROR(J65/E65,"")
A66: 1061 | B66: 1X1R | C66: 1 | D66: 1 | E66: 720 | F66: Occupied | G66: 46217 | H66: 44726 | I66: Renewal | J66: 1530 | K66: =IFERROR(J66/E66,"")
... A68: 1063 | B68: 1X1R | C68: 1 | D68: 1 | E68: 720 | F68: Occupied | G68: 46082 | H68: 44993 | I68: Renewal | J68: 1539 | K68: =IFERROR(J68/E68,"")
A69: 1064 | B69: 1X1 | C69: 1 | D69: 1 | E69: 720 | F69: Vacant | K69: =IFERROR(J69/E69,"")
A70: 1065 | B70: 2X2R | C70: 2 | D70: 2 | E70: 1006 | F70: Occupied | G70: 46229 | H70: 45499 | I70: Renewal | J70: 1500 | K70: =IFERROR(J70/E70,"")
A71: 1066 | B71: 2X2R | C71: 2 | D71: 2 | E71: 1006 | F71: Occupied | G71: 46046 | H71: 45315 | I71: Renewal | J71: 1522 | K71: =IFERROR(J71/E71,"")
A72: 1067 | B72: 2X2R | C72: 2 | D72: 2 | E72: 1006 | F72: Occupied | G72: 46055 | H72: 45324 | I72: Renewal | J72: 1668 | K72: =IFERROR(J72/E72,"")
A73: 1068 | B73: 2X2 | C73: 2 | D73: 2 | E73: 1006 | F73: Occupied | G73: 45987 | H73: 45987 | I73: New | J73: 1507 | K73: =IFERROR(J73/E73,"")
A74: 1069 | B74: 2X2R | C74: 2 | D74: 2 | E74: 1006 | F74: Occupied | G74: 46233 | H74: 45503 | I74: Renewal | J74: 1875 | K74: =IFERROR(J74/E74,"")
A75: 1070 | B75: 2X2R | C75: 2 | D75: 2 | E75: 1006 | F75: Occupied | G75: 46218 | H75: 45853 | I75: Renewal | J75: 1518 | K75: =IFERROR(J75/E75,"")
A76: 1071 | B76: 2X2R | C76: 2 | D76: 2 | E76: 1006 | F76: Vacant | K76: =IFERROR(J76/E76,"")
A77: 1072 | B77: 2X2 | C77: 2 | D77: 2 | E77: 1006 | F77: Occupied | G77: 46187 | H77: 45822 | I77: Renewal | J77: 1586 | K77: =IFERROR(J77/E77,"")
A78: 1073 | B78: 2X2R | C78: 2 | D78: 2 | E78: 1006 | F78: Occupied | G78: 46204 | H78: 45839 | I78: Renewal | J78: 1586 | K78: =IFERROR(J78/E78,"")
A79: 1074 | B79: 2X2 | C79: 2 | D79: 2 | E79: 1006 | F79: Vacant | K79: =IFERROR(J79/E79,"")
A80: 1075 | B80: 2X2 | C80: 2 | D80: 2 | E80: 1006 | F80: Occupied | G80: 46197 | H80: 45801 | I80: Renewal | J80: 1517 | K80: =IFERROR(J80/E80,"")
A81: 1076 | B81: 2X2 | C81: 2 | D81: 2 | E81: 1006 | F81: Occupied | G81: 46039 | H81: 45308 | I81: Renewal | J81: 1748 | K81: =IFERROR(J81/E81,"")
A82: 1077 | B82: 2X2 | C82: 2 | D82: 2 | E82: 1006 | F82: Occupied | G82: 46226 | H82: 44431 | I82: Renewal | J82: 2397 | K82: =IFERROR(J82/E82,"")
A83: 1078 | B83: 2X2 | C83: 2 | D83: 2 | E83: 1006 | F83: Occupied | G83: 46135 | H83: 46135 | I83: New | J83: 1522 | K83: =IFERROR(J83/E83,"")
A84: 1079 | B84: 3X2AR | C84: 3 | D84: 2 | E84: 1194 | F84: Occupied | G84: 45983 | H84: 45618 | I84: Renewal | J84: 1998 | K84: =IFERROR(J84/E84,"")
A85: 1080 | B85: 3X2A | C85: 3 | D85: 2 | E85: 1194 | F85: Occupied | G85: 45988 | H85: 45592 | I85: Renewal | J85: 1911 | K85: =IFERROR(J85/E85,"")
A86: 1081 | B86: 3X2AR | C86: 3 | D86: 2 | E86: 1194 | F86: Occupied | G86: 46203 | H86: 46203 | I86: New | J86: 2021 | K86: =IFERROR(J86/E86,"")
A87: 1082 | B87: 3X2AR | C87: 3 | D87: 2 | E87: 1194 | F87: Occupied | G87: 45962 | H87: 45962 | I87: New | J87: 1964 | K87: =IFERROR(J87/E87,"")
A88: 1083 | B88: 3X2A | C88: 3 | D88: 2 | E88: 1194 | F88: Occupied | G88: 46071 | H88: 46071 | I88: New | J88: 1785 | K88: =IFERROR(J88/E88,"")
A89: 1084 | B89: 3X2AR | C89: 3 | D89: 2 | E89: 1194 | F89: Occupied | G89: 45918 | H89: 45553 | I89: Renewal | J89: 2110 | K89: =IFERROR(J89/E89,"")
A90: 1085 | B90: 2X2 | C90: 2 | D90: 2 | E90: 1006 | F90: Occupied | G90: 45955 | H90: 45224 | I90: Renewal | J90: 2024 | K90: =IFERROR(J90/E90,"")
A91: 1086 | B91: 2X2R | C91: 2 | D91: 2 | E91: 1006 | F91: Occupied | G91: 45960 | H91: 45626 | I91: Renewal | J91: 1619 | K91: =IFERROR(J91/E91,"")
... A125: 1120 | B125: 1X1 | C125: 1 | D125: 1 | E125: 720 | F125: Occupied | G125: 46024 | H125: 46024 | I125: New | J125: 1134 | K125: =IFERROR(J125/E125,"")
A126: 1121 | B126: 2X1R | C126: 2 | D126: 1 | E126: 846 | F126: Vacant | K126: =IFERROR(J126/E126,"")
A127: 1122 | B127: 2X1 | C127: 2 | D127: 1 | E127: 846 | F127: Occupied | G127: 46024 | H127: 46024 | I127: New | J127: 1328 | K127: =IFERROR(J127/E127,"")
A128: 1123 | B128: 2X1 | C128: 2 | D128: 1 | E128: 846 | F128: Occupied | G128: 46104 | H128: 45739 | I128: Renewal | J128: 1433 | K128: =IFERROR(J128/E128,"")
A129: 1124 | B129: 2X1 | C129: 2 | D129: 1 | E129: 846 | F129: Occupied | G129: 46178 | H129: 45813 | I129: Renewal | J129: 1471 | K129: =IFERROR(J129/E129,"")
A130: 1125 | B130: 1X1R | C130: 1 | D130: 1 | E130: 720 | F130: Occupied | G130: 46143 | H130: 46143 | I130: New | J130: 1197 | K130: =IFERROR(J130/E130,"")
A131: 1126 | B131: 1X1 | C131: 1 | D131: 1 | E131: 720 | F131: Occupied | G131: 46101 | H131: 46101 | I131: New | J131: 1202 | K131: =IFERROR(J131/E131,"")
A132: 1127 | B132: 1X1 | C132: 1 | D132: 1 | E132: 720 | F132: Occupied | G132: 45850 | H132: 43597 | I132: Renewal | J132: 1438 | K132: =IFERROR(J132/E132,"")
A133: 1128 | B133: 1X1R | C133: 1 | D133: 1 | E133: 720 | F133: Occupied | G133: 45924 | H133: 45559 | I133: Renewal | J133: 1442 | K133: =IFERROR(J133/E133,"")
A134: 1129 | B134: 2X1R | C134: 2 | D134: 1 | E134: 846 | F134: Vacant | K134: =IFERROR(J134/E134,"")
A135: 1130 | B135: 2X1 | C135: 2 | D135: 1 | E135: 846 | F135: Occupied | G135: 46015 | H135: 46015 | I135: New | J135: 1328 | K135: =IFERROR(J135/E135,"")
A136: 1131 | B136: 2X1R | C136: 2 | D136: 1 | E136: 846 | F136: Occupied | G136: 46076 | H136: 46076 | I136: New | J136: 1250 | K136: =IFERROR(J136/E136,"")
A137: 1132 | B137: 2X1R | C137: 2 | D137: 1 | E137: 846 | F137: Occupied | G137: 46042 | H137: 46042 | I137: New | J137: 1360 | K137: =IFERROR(J137/E137,"")
A138: 1133 | B138: 1X1R | C138: 1 | D138: 1 | E138: 720 | F138: Occupied | G138: 46116 | H138: 46116 | I138: New | J138: 1150 | K138: =IFERROR(J138/E138,"")
A139: 1134 | B139: 1X1 | C139: 1 | D139: 1 | E139: 720 | F139: Occupied | G139: 46188 | H139: 46188 | I139: New | J139: 1354 | K139: =IFERROR(J139/E139,"")
A140: 1135 | B140: 1X1 | C140: 1 | D140: 1 | E140: 720 | F140: Occupied | G140: 46119 | H140: 46119 | I140: New | J140: 1260 | K140: =IFERROR(J140/E140,"")
A141: 1136 | B141: 1X1R | C141: 1 | D141: 1 | E141: 720 | F141: Occupied | G141: 46124 | H141: 46124 | I141: New | J141: 1097 | K141: =IFERROR(J141/E141,"")
A142: 1137 | B142: 1X1 | C142: 1 | D142: 1 | E142: 720 | F142: Occupied | G142: 46129 | H142: 45764 | I142: Renewal | J142: 1263 | K142: =IFERROR(J142/E142,"")
A143: 1138 | B143: 1X1 | C143: 1 | D143: 1 | E143: 720 | F143: Occupied | G143: 46203 | H143: 44012 | I143: Renewal | J143: 1200 | K143: =IFERROR(J143/E143,"")
A144: 1139 | B144: 1X1R | C144: 1 | D144: 1 | E144: 720 | F144: Occupied | G144: 46150 | H144: 46150 | I144: New | J144: 1134 | K144: =IFERROR(J144/E144,"")
A145: 1140 | B145: 1X1 | C145: 1 | D145: 1 | E145: 720 | F145: Occupied | G145: 46198 | H145: 45437 | I145: Renewal | J145: 1331 | K145: =IFERROR(J145/E145,"")
A146: 1141 | B146: 1X1R | C146: 1 | D146: 1 | E146: 720 | F146: Occupied | G146: 46105 | H146: 46105 | I146: New | J146: 1113 | K146: =IFERROR(J146/E146,"")
... A169: 1164 | B169: 1X1 | C169: 1 | D169: 1 | E169: 720 | F169: Occupied | G169: 45915 | H169: 45915 | I169: New | J169: 1181 | K169: =IFERROR(J169/E169,"")
A170: 1165 | B170: 3X2B | C170: 3 | D170: 2 | E170: 1444 | F170: Vacant | K170: =IFERROR(J170/E170,"")
A171: 1166 | B171: 3X2BR | C171: 3 | D171: 2 | E171: 1444 | F171: Occupied | G171: 46106 | H171: 45741 | I171: Renewal | J171: 2453 | K171: =IFERROR(J171/E171,"")
A172: 1167 | B172: 2X2 | C172: 2 | D172: 2 | E172: 1006 | F172: Occupied | G172: 45923 | H172: 45558 | I172: Renewal | J172: 1748 | K172: =IFERROR(J172/E172,"")
A173: 1168 | B173: 2X2R | C173: 2 | D173: 2 | E173: 1006 | F173: Occupied | G173: 45879 | H173: 45514 | I173: Renewal | J173: 1521 | K173: =IFERROR(J173/E173,"")
A174: 1169 | B174: 3X2BR | C174: 3 | D174: 2 | E174: 1444 | F174: Occupied | G174: 46167 | H174: 44706 | I174: Renewal | J174: 2123 | K174: =IFERROR(J174/E174,"")
A175: 1170 | B175: 3X2B | C175: 3 | D175: 2 | E175: 1444 | F175: Occupied | G175: 46085 | H175: 46085 | I175: New | J175: 1948 | K175: =IFERROR(J175/E175,"")
A176: 2003 | B176: 2X2 | C176: 2 | D176: 2 | E176: 1006 | F176: Non-revenue | K176: =IFERROR(J176/E176,"")
A177: 2004 | B177: 2X2R | C177: 2 | D177: 2 | E177: 1006 | F177: Non-revenue | K177: =IFERROR(J177/E177,"")
A178: 2005 | B178: 1X1 | C178: 1 | D178: 1 | E178: 720 | F178: Occupied | G178: 46046 | H178: 46046 | I178: New | J178: 1292 | K178: =IFERROR(J178/E178,"")
A179: 2006 | B179: 1X1 | C179: 1 | D179: 1 | E179: 720 | F179: Occupied | G179: 46037 | H179: 45672 | I179: Renewal | J179: 1265 | K179: =IFERROR(J179/E179,"")
A180: 2007 | B180: 1X1R | C180: 1 | D180: 1 | E180: 720 | F180: Occupied | G180: 46166 | H180: 45070 | I180: Renewal | J180: 1571 | K180: =IFERROR(J180/E180,"")
A181: 2008 | B181: 1X1R | C181: 1 | D181: 1 | E181: 720 | F181: Occupied | G181: 46213 | H181: 45483 | I181: Renewal | J181: 1334 | K181: =IFERROR(J181/E181,"")
A182: 2009 | B182: 1X1 | C182: 1 | D182: 1 | E182: 720 | F182: Occupied | G182: 46158 | H182: 45398 | I182: Renewal | J182: 1292 | K182: =IFERROR(J182/E182,"")
A183: 2010 | B183: 1X1 | C183: 1 | D183: 1 | E183: 720 | F183: Occupied | G183: 45870 | H183: 39609 | I183: Renewal | J183: 1539 | K183: =IFERROR(J183/E183,"")
A184: 2011 | B184: 1X1 | C184: 1 | D184: 1 | E184: 720 | F184: Occupied | G184: 46015 | H184: 46015 | I184: New | J184: 1134 | K184: =IFERROR(J184/E184,"")
A185: 2012 | B185: 1X1 | C185: 1 | D185: 1 | E185: 720 | F185: Occupied | G185: 45897 | H185: 45501 | I185: Renewal | J185: 1407 | K185: =IFERROR(J185/E185,"")
A186: 2013 | B186: 2X2 | C186: 2 | D186: 2 | E186: 1006 | F186: Occupied | G186: 45985 | H186: 45985 | I186: New | J186: 1496 | K186: =IFERROR(J186/E186,"")
A187: 2014 | B187: 2X2R | C187: 2 | D187: 2 | E187: 1006 | F187: Occupied | G187: 46125 | H187: 45760 | I187: Renewal | J187: 1793 | K187: =IFERROR(J187/E187,"")
A188: 2015 | B188: 2X2 | C188: 2 | D188: 2 | E188: 1006 | F188: Occupied | G188: 46204 | H188: 42727 | I188: Renewal | J188: 1683 | K188: =IFERROR(J188/E188,"")
...

Sheet Unit Mix Summary
A1: Unit mix summary
A2: Sample Mesa Apt — as of 2026-08-31
A3: AI Underwriting Pipeline — Sample Outputs
A5: Months lookback | B5: 12 | D5: As-of date | E5: 46265 | G5: New-tenant tol (days) | H5: 31
A6: Every window below is measured from the as-of date, never from today — a summary that silently re-windows when reopened next quarter is worse than none.
A8: Bedroom | B8: Floor plan | C8: Avg SF | D8: Unit count | E8: In-place rent | F8: LEASES SIGNED rent | G8: Signed # | H8: NEW MOVE-IN rent | I8: Move-In # | J8: Market rent for model | K8: Basis
A9: 1 | B9: 1X1 | C9: =IFERROR(AVERAGEIF('Rent Roll'!$B$6:$B$339,$B9,'Rent Roll'!$E$6:$E$339),"") | D9: =COUNTIF('Rent Roll'!$B$6:$B$339,$B9) | E9: =IFERROR(AVERAGEIFS('Rent Roll'!$J$6:$J$339,'Rent Roll'!$B$6:$B$339,$B9,'Rent Roll'!$F$6:$F$339,"Occupied"),"") | F9: 1315.7632 | G9: 76 | H9: 1225.2222 | I9: 27 | J9: 1225.2222 | K9: New move-ins (n=27)
A10: 1 | B10: 1X1R | C10: =IFERROR(AVERAGEIF('Rent Roll'!$B$6:$B$339,$B10,'Rent Roll'!$E$6:$E$339),"") | D10: =COUNTIF('Rent Roll'!$B$6:$B$339,$B10) | E10: =IFERROR(AVERAGEIFS('Rent Roll'!$J$6:$J$339,'Rent Roll'!$B$6:$B$339,$B10,'Rent Roll'!$F$6:$F$339,"Occupied"),"") | F10: 1295.3333 | G10: 66 | H10: 1167.9615 | I10: 26 | J10: 1167.9615 | K10: New move-ins (n=26)
A11: 2 | B11: 2X1 | C11: =IFERROR(AVERAGEIF('Rent Roll'!$B$6:$B$339,$B11,'Rent Roll'!$E$6:$E$339),"") | D11: =COUNTIF('Rent Roll'!$B$6:$B$339,$B11) | E11: =IFERROR(AVERAGEIFS('Rent Roll'!$J$6:$J$339,'Rent Roll'!$B$6:$B$339,$B11,'Rent Roll'!$F$6:$F$339,"Occupied"),"") | F11: 1494.5312 | G11: 32 | H11: 1355.2143 | I11: 14 | J11: 1355.2143 | K11: New move-ins (n=14)
A12: 2 | B12: 2X1R | C12: =IFERROR(AVERAGEIF('Rent Roll'!$B$6:$B$339,$B12,'Rent Roll'!$E$6:$E$339),"") | D12: =COUNTIF('Rent Roll'!$B$6:$B$339,$B12) | E12: =IFERROR(AVERAGEIFS('Rent Roll'!$J$6:$J$339,'Rent Roll'!$B$6:$B$339,$B12,'Rent Roll'!$F$6:$F$339,"Occupied"),"") | F12: 1390.8333 | G12: 18 | H12: 1322.75 | I12: 12 | J12: 1322.75 | K12: New move-ins (n=12)
A13: 2 | B13: 2X2 | C13: =IFERROR(AVERAGEIF('Rent Roll'!$B$6:$B$339,$B13,'Rent Roll'!$E$6:$E$339),"") | D13: =COUNTIF('Rent Roll'!$B$6:$B$339,$B13) | E13: =IFERROR(AVERAGEIFS('Rent Roll'!$J$6:$J$339,'Rent Roll'!$B$6:$B$339,$B13,'Rent Roll'!$F$6:$F$339,"Occupied"),"") | F13: 1652.3778 | G13: 45 | H13: 1533.3077 | I13: 13 | J13: 1533.3077 | K13: New move-ins (n=13)
A14: 2 | B14: 2X2R | C14: =IFERROR(AVERAGEIF('Rent Roll'!$B$6:$B$339,$B14,'Rent Roll'!$E$6:$E$339),"") | D14: =COUNTIF('Rent Roll'!$B$6:$B$339,$B14) | E14: =IFERROR(AVERAGEIFS('Rent Roll'!$J$6:$J$339,'Rent Roll'!$B$6:$B$339,$B14,'Rent Roll'!$F$6:$F$339,"Occupied"),"") | F14: 1565.7353 | G14: 34 | H14: 1422.4 | I14: 15 | J14: 1422.4 | K14: New move-ins (n=15)
A15: 3 | B15: 3X2A | C15: =IFERROR(AVERAGEIF('Rent Roll'!$B$6:$B$339,$B15,'Rent Roll'!$E$6:$E$339),"") | D15: =COUNTIF('Rent Roll'!$B$6:$B$339,$B15) | E15: =IFERROR(AVERAGEIFS('Rent Roll'!$J$6:$J$339,'Rent Roll'!$B$6:$B$339,$B15,'Rent Roll'!$F$6:$F$339,"Occupied"),"") | F15: 1760.6 | G15: 5 | H15: 1687 | I15: 3 | J15: 1687 | K15: New move-ins (n=3)
A16: 3 | B16: 3X2AR | C16: =IFERROR(AVERAGEIF('Rent Roll'!$B$6:$B$339,$B16,'Rent Roll'!$E$6:$E$339),"") | D16: =COUNTIF('Rent Roll'!$B$6:$B$339,$B16) | E16: =IFERROR(AVERAGEIFS('Rent Roll'!$J$6:$J$339,'Rent Roll'!$B$6:$B$339,$B16,'Rent Roll'!$F$6:$F$339,"Occupied"),"") | F16: 1915.7143 | G16: 7 | H16: 1853.25 | I16: 4 | J16: 1853.25 | K16: New move-ins (n=4)
A17: 3 | B17: 3X2B | C17: =IFERROR(AVERAGEIF('Rent Roll'!$B$6:$B$339,$B17,'Rent Roll'!$E$6:$E$339),"") | D17: =COUNTIF('Rent Roll'!$B$6:$B$339,$B17) | E17: =IFERROR(AVERAGEIFS('Rent Roll'!$J$6:$J$339,'Rent Roll'!$B$6:$B$339,$B17,'Rent Roll'!$F$6:$F$339,"Occupied"),"") | F17: 2103 | G17: 2 | H17: 1948 | I17: 1 | J17: 1948 | K17: New move-ins (n=1)
A18: 3 | B18: 3X2BR | C18: =IFERROR(AVERAGEIF('Rent Roll'!$B$6:$B$339,$B18,'Rent Roll'!$E$6:$E$339),"") | D18: =COUNTIF('Rent Roll'!$B$6:$B$339,$B18) | E18: =IFERROR(AVERAGEIFS('Rent Roll'!$J$6:$J$339,'Rent Roll'!$B$6:$B$339,$B18,'Rent Roll'!$F$6:$F$339,"Occupied"),"") | F18: 2288 | G18: 2 | I18: 0 | J18: 2288 | K18: In-place — no new move-ins in window
B20: TOTAL | C20: =IFERROR(SUMPRODUCT($D$9:$D$18,$C$9:$C$18)/SUM($D$9:$D$18),"") | D20: =SUM(D9:D18) | E20: =IFERROR(AVERAGEIFS('Rent Roll'!$J$6:$J$339,'Rent Roll'!$F$6:$F$339,"Occupied"),"") | F20: =IFERROR(SUMPRODUCT($F$9:$F$18,$G$9:$G$18)/SUM($G$9:$G$18),"") | G20: =SUM(G9:G18) | H20: =IFERROR(SUMPRODUCT($H$9:$H$18,$I$9:$I$18)/SUM($I$9:$I$18),"") | I20: =SUM(I9:I18) | J20: =IFERROR(SUMPRODUCT($D$9:$D$18,$J$9:$J$18)/SUM($D$9:$D$18),"") | K20: Weighted by unit count.
A22: Occupancy & vacancy
A23: Total units | B23: =D20
A24: Occupied units | B24: 313
A25: Vacant units | B25: 17
A26: Non-revenue units | B26: 4 | C26: Models and down units: in the stock, in neither occupancy bucket.
A27: Occupancy | B27: =IFERROR(B24/B23,"")
A28: Vacancy | B28: =IFERROR(1-B24/B23,"") | C28: The physical-vacancy input a model consumes.
A30: Annualised turnover rate
A31: Annualised turnover | B31: 0.34431138 | C31: Move-ins in the trailing 12 months, annualised against unit count.
A33: New move-ins
A34: Move-ins in window | B34: 115 | C34: Counted by MOVE-IN date, never by lease start — a renewal stamps a fresh lease start against a resident who moved in years ago.
A35: Window (months) | B35: 12
A36: Share of units | B36: 0.34431138
A38: Notes
A39: Market rent for model is the NEW MOVE-IN rent — residents whose move-in date falls inside the lookback window, whatever their lease type — where the plan has one, and the in-place average otherwise; the Basis column says which, per plan; a roll with no usable lease start or move-in date reads in-place outright. LEASES SIGNED is every classified lease started in the window, new and renewal together, and is shown for context only: a blend of new and renewal rents is a renewal average wearing a market-rent label, and on a stabilised property renewals outnumber new leases roughly three to two over twelve months.
A40: The signed and move-in rents, their counts and market rent for model are values rather than formulas on purpose: they depend on the window above, and a formula would re-window itself the day this file is reopened. Unit count, average SF and in-place rent are live formulas over the Rent Roll tab.

Sheet Audit Trail
A1: Audit trail
A2: Sample Mesa Apt — as of 2026-08-31
A3: The rent roll and unit mix. Every value below names the document it came from and where in it. A derived value names the values it was built from — one that could not would not have passed validation.
A5: Stamped values in this workbook | B5: 8
A6: Coverage of the required set | B6: 52/52 (100%)
A8: Value | B8: Value as published | C8: Source document | D8: Where in it | E8: How | F8: Built from | G8: Supporting quote / note
A9: rent_roll.as_of | B9: 2026-08-31 | C9: Sample Property RR 8.4.26.xlsx | D9: as-of line | E9: read | G9: Read as the end of the period the roll's own header states.
A10: rent_roll.lookback_months | B10: 12 | C10: Not stated in the uploaded documents | D10: — | E10: read | G10: This demo's default of 12 — the months of lease history the turnover figures look back over. No uploaded document or note set it.
A11: rent_roll.new_tenant_tolerance_days | B11: 31 | C11: Not stated in the uploaded documents | D11: — | E11: read | G11: This demo's default of 31 — the days a lease start may sit from a move-in and still count as the same event. No uploaded document or note set it.
A12: rent_roll.units | B12: 334 entries | C12: Sample Property RR 8.4.26.xlsx | D12: roll | E12: read | G12: Read from the uploaded rent roll.
A13: summary.in_place_rent_avg | B13: 1,456.99 | C13: Sample Property RR 8.4.26.xlsx | D13: — | E13: derived | F13: rent_roll.units | G13: Unit-weighted across the uploaded roll.
A14: summary.market_rent_for_model | B14: 1,344.6 | C14: Sample Property RR 8.4.26.xlsx | D14: — | E14: derived | F14: rent_roll.units | G14: Unit-weighted across the uploaded roll.
A15: summary.unit_count | B15: 334 | C15: Sample Property RR 8.4.26.xlsx | D15: — | E15: derived | F15: rent_roll.units | G15: Counted from the rows of the uploaded rent roll.
A16: trade_out.rows | B16: 0 entries | C16: Internal pipeline only | D16: — | E16: read | G16: The internal pipeline reads a lease trade-out report (new versus renewal rents); the demo does not ask for one.
